BEGIN:VCALENDAR
VERSION:2.0
PRODID:-//Association Familles Rurales de Guisseny (29) - ECPv6.15.20//NONSGML v1.0//EN
CALSCALE:GREGORIAN
METHOD:PUBLISH
X-WR-CALNAME:Association Familles Rurales de Guisseny (29)
X-ORIGINAL-URL:http://famillesruralesguisseny.fr
X-WR-CALDESC:Évènements pour Association Familles Rurales de Guisseny (29)
REFRESH-INTERVAL;VALUE=DURATION:PT1H
X-Robots-Tag:noindex
X-PUBLISHED-TTL:PT1H
BEGIN:VTIMEZONE
TZID:Europe/Helsinki
BEGIN:DAYLIGHT
TZOFFSETFROM:+0200
TZOFFSETTO:+0300
TZNAME:EEST
DTSTART:20240331T010000
END:DAYLIGHT
BEGIN:STANDARD
TZOFFSETFROM:+0300
TZOFFSETTO:+0200
TZNAME:EET
DTSTART:20241027T010000
END:STANDARD
BEGIN:DAYLIGHT
TZOFFSETFROM:+0200
TZOFFSETTO:+0300
TZNAME:EEST
DTSTART:20250330T010000
END:DAYLIGHT
BEGIN:STANDARD
TZOFFSETFROM:+0300
TZOFFSETTO:+0200
TZNAME:EET
DTSTART:20251026T010000
END:STANDARD
BEGIN:DAYLIGHT
TZOFFSETFROM:+0200
TZOFFSETTO:+0300
TZNAME:EEST
DTSTART:20260329T010000
END:DAYLIGHT
BEGIN:STANDARD
TZOFFSETFROM:+0300
TZOFFSETTO:+0200
TZNAME:EET
DTSTART:20261025T010000
END:STANDARD
END:VTIMEZONE
BEGIN:VEVENT
DTSTART;TZID=Europe/Helsinki:20250313T180000
DTEND;TZID=Europe/Helsinki:20250313T200000
DTSTAMP:20260422T055420
CREATED:20250303T113344Z
LAST-MODIFIED:20250303T113344Z
UID:49667-1741888800-1741896000@famillesruralesguisseny.fr
SUMMARY:Café numérique - 13.03.2025
DESCRIPTION:Thématique au programme : « Fabrique ta borne d’arcade ». L’occasion de venir découvrir\, apprendre et manipuler les machines même si vous n’y connaissez rien ! Prix : 5€/personne.
URL:http://famillesruralesguisseny.fr/event/cafe-numerique-13-03-2025/
LOCATION:Maison Communale\, 7 rue Chanoine Rannou\, Guisseny\, 29880\, France
CATEGORIES:Activités
ATTACH;FMTTYPE=image/png:http://famillesruralesguisseny.fr/wp-content/uploads/2025/03/Jeudi-10-octobre-2024-DE-18H-a-20h-Theme-Creer-ton-objet-en-3D.png
ORGANIZER;CN="AFR Guisseny":MAILTO:accueil@famillesruralesguisseny.fr
END:VEVENT
BEGIN:VEVENT
DTSTART;TZID=Europe/Helsinki:20250317T200000
DTEND;TZID=Europe/Helsinki:20250317T220000
DTSTAMP:20260422T055420
CREATED:20250130T104052Z
LAST-MODIFIED:20250303T111632Z
UID:49607-1742241600-1742248800@famillesruralesguisseny.fr
SUMMARY:Atelier produits fait maison
DESCRIPTION:Le prochain atelier produits fait maison organisé par Familles Rurales de Guissény aura lieu lundi 17 mars à 20h à l’école St Jeanne d’Arc de Guissény.\nAu programme :\n\nélixir coup de pousse pour les cheveux\ngommage pour le corps\nshampoing solide – gommage cuir chevelu\n\n\n\nVenez profiter de cet atelier réalisé dans une ambiance conviviale et repartez avec vos produits !\nPrix : 15€ la séance\nInscriptions à : accueil@famillesruralesguisseny.fr
URL:http://famillesruralesguisseny.fr/event/atelier-produits-fait-maison-2/
LOCATION:École Ste Jeanne d’Arc\, 567 Corn à C Héré\, Guissény\, 29880\, France
CATEGORIES:Activités
ATTACH;FMTTYPE=image/png:http://famillesruralesguisseny.fr/wp-content/uploads/2025/01/Atelier-produit-fait-maison-17-03-25.png
ORGANIZER;CN="AFR Guisseny":MAILTO:accueil@famillesruralesguisseny.fr
END:VEVENT
END:VCALENDAR