BEGIN:VCALENDAR
VERSION:2.0
PRODID:-//Association Familles Rurales de Guisseny (29) - ECPv6.15.20//NONSGML v1.0//EN
CALSCALE:GREGORIAN
METHOD:PUBLISH
X-ORIGINAL-URL:http://famillesruralesguisseny.fr
X-WR-CALDESC:Évènements pour Association Familles Rurales de Guisseny (29)
REFRESH-INTERVAL;VALUE=DURATION:PT1H
X-Robots-Tag:noindex
X-PUBLISHED-TTL:PT1H
BEGIN:VTIMEZONE
TZID:Europe/Helsinki
BEGIN:DAYLIGHT
TZOFFSETFROM:+0200
TZOFFSETTO:+0300
TZNAME:EEST
DTSTART:20230326T010000
END:DAYLIGHT
BEGIN:STANDARD
TZOFFSETFROM:+0300
TZOFFSETTO:+0200
TZNAME:EET
DTSTART:20231029T010000
END:STANDARD
BEGIN:DAYLIGHT
TZOFFSETFROM:+0200
TZOFFSETTO:+0300
TZNAME:EEST
DTSTART:20240331T010000
END:DAYLIGHT
BEGIN:STANDARD
TZOFFSETFROM:+0300
TZOFFSETTO:+0200
TZNAME:EET
DTSTART:20241027T010000
END:STANDARD
BEGIN:DAYLIGHT
TZOFFSETFROM:+0200
TZOFFSETTO:+0300
TZNAME:EEST
DTSTART:20250330T010000
END:DAYLIGHT
BEGIN:STANDARD
TZOFFSETFROM:+0300
TZOFFSETTO:+0200
TZNAME:EET
DTSTART:20251026T010000
END:STANDARD
END:VTIMEZONE
BEGIN:VEVENT
DTSTART;TZID=Europe/Helsinki:20241202T200000
DTEND;TZID=Europe/Helsinki:20241202T220000
DTSTAMP:20260422T121103
CREATED:20241125T151310Z
LAST-MODIFIED:20241125T151310Z
UID:49544-1733169600-1733176800@famillesruralesguisseny.fr
SUMMARY:Atelier produits fait maison
DESCRIPTION:Le prochain atelier produits fait maison organisé par Familles Rurales de Guissény aura lieu lundi 2 décembre à 20h à l’école St Jeanne d’Arc de Guissény.\n\nAu programme : préparation de cadeaux pour les fêtes de fin d’année\n*Bonbons au miel\n*Synergie anti-stress\n*huile pour les tamalous !\n\n\n\nVenez profiter de cet atelier réalisé dans une ambiance conviviale et repartez avec vos produits !\nPrix : 15€ la séance\nInscriptions à : accueil@famillesruralesguisseny.fr
URL:http://famillesruralesguisseny.fr/event/atelier-produits-fait-maison/
LOCATION:École Ste Jeanne d’Arc\, 567 Corn à C Héré\, Guissény\, 29880\, France
CATEGORIES:Activités
ATTACH;FMTTYPE=image/png:http://famillesruralesguisseny.fr/wp-content/uploads/2024/11/Atelier-produit-fait-maison-02-12-2024-min.png
ORGANIZER;CN="AFR Guisseny":MAILTO:accueil@famillesruralesguisseny.fr
END:VEVENT
END:VCALENDAR