BEGIN:VCALENDAR
VERSION:2.0
PRODID:-//Association Familles Rurales de Guisseny (29) - ECPv6.15.20//NONSGML v1.0//EN
CALSCALE:GREGORIAN
METHOD:PUBLISH
X-WR-CALNAME:Association Familles Rurales de Guisseny (29)
X-ORIGINAL-URL:http://famillesruralesguisseny.fr
X-WR-CALDESC:Évènements pour Association Familles Rurales de Guisseny (29)
REFRESH-INTERVAL;VALUE=DURATION:PT1H
X-Robots-Tag:noindex
X-PUBLISHED-TTL:PT1H
BEGIN:VTIMEZONE
TZID:Europe/Helsinki
BEGIN:DAYLIGHT
TZOFFSETFROM:+0200
TZOFFSETTO:+0300
TZNAME:EEST
DTSTART:20250330T010000
END:DAYLIGHT
BEGIN:STANDARD
TZOFFSETFROM:+0300
TZOFFSETTO:+0200
TZNAME:EET
DTSTART:20251026T010000
END:STANDARD
BEGIN:DAYLIGHT
TZOFFSETFROM:+0200
TZOFFSETTO:+0300
TZNAME:EEST
DTSTART:20260329T010000
END:DAYLIGHT
BEGIN:STANDARD
TZOFFSETFROM:+0300
TZOFFSETTO:+0200
TZNAME:EET
DTSTART:20261025T010000
END:STANDARD
BEGIN:DAYLIGHT
TZOFFSETFROM:+0200
TZOFFSETTO:+0300
TZNAME:EEST
DTSTART:20270328T010000
END:DAYLIGHT
BEGIN:STANDARD
TZOFFSETFROM:+0300
TZOFFSETTO:+0200
TZNAME:EET
DTSTART:20271031T010000
END:STANDARD
END:VTIMEZONE
BEGIN:VEVENT
DTSTART;TZID=Europe/Helsinki:20260123T180000
DTEND;TZID=Europe/Helsinki:20260123T200000
DTSTAMP:20260419T161510
CREATED:20260113T135241Z
LAST-MODIFIED:20260113T135241Z
UID:50479-1769191200-1769198400@famillesruralesguisseny.fr
SUMMARY:Café numérique
DESCRIPTION:Le premier café numérique de 2026 aura lieu vendredi 23 janvier\, de 18h à 20h ! Venez découvrir le matériel à disposition dans la fabrique numérique de Familles Rurales\, vous former au maniement des machines ou même discuter des différents projets actuels. \nGratuit et ouvert à tous et toutes. 3 Brévalaire\, étage de l’Espace Jeunes\, 29890 Kerlouan
URL:http://famillesruralesguisseny.fr/event/cafe-numerique/
LOCATION:Espace Jeunes\, 3 Brévalaire\, Kerlouan\, 28890\, France
CATEGORIES:Numérique
ATTACH;FMTTYPE=image/jpeg:http://famillesruralesguisseny.fr/wp-content/uploads/2026/01/20260123-Cafe-numerique.jpg
ORGANIZER;CN="AFR Guisseny":MAILTO:accueil@famillesruralesguisseny.fr
END:VEVENT
END:VCALENDAR