BEGIN:VCALENDAR
VERSION:2.0
PRODID:-//Association Familles Rurales de Guisseny (29) - ECPv6.15.20//NONSGML v1.0//EN
CALSCALE:GREGORIAN
METHOD:PUBLISH
X-ORIGINAL-URL:http://famillesruralesguisseny.fr
X-WR-CALDESC:Évènements pour Association Familles Rurales de Guisseny (29)
REFRESH-INTERVAL;VALUE=DURATION:PT1H
X-Robots-Tag:noindex
X-PUBLISHED-TTL:PT1H
BEGIN:VTIMEZONE
TZID:Europe/Helsinki
BEGIN:DAYLIGHT
TZOFFSETFROM:+0200
TZOFFSETTO:+0300
TZNAME:EEST
DTSTART:20240331T010000
END:DAYLIGHT
BEGIN:STANDARD
TZOFFSETFROM:+0300
TZOFFSETTO:+0200
TZNAME:EET
DTSTART:20241027T010000
END:STANDARD
BEGIN:DAYLIGHT
TZOFFSETFROM:+0200
TZOFFSETTO:+0300
TZNAME:EEST
DTSTART:20250330T010000
END:DAYLIGHT
BEGIN:STANDARD
TZOFFSETFROM:+0300
TZOFFSETTO:+0200
TZNAME:EET
DTSTART:20251026T010000
END:STANDARD
BEGIN:DAYLIGHT
TZOFFSETFROM:+0200
TZOFFSETTO:+0300
TZNAME:EEST
DTSTART:20260329T010000
END:DAYLIGHT
BEGIN:STANDARD
TZOFFSETFROM:+0300
TZOFFSETTO:+0200
TZNAME:EET
DTSTART:20261025T010000
END:STANDARD
END:VTIMEZONE
BEGIN:VEVENT
DTSTART;TZID=Europe/Helsinki:20251010T180000
DTEND;TZID=Europe/Helsinki:20251010T200000
DTSTAMP:20260419T230433
CREATED:20250929T170114Z
LAST-MODIFIED:20250929T170253Z
UID:50329-1760119200-1760126400@famillesruralesguisseny.fr
SUMMARY:Porte ouverte du café numérique
DESCRIPTION:Découverte Numérique ; Imprimante 3D ; découpeuse vinyle… \n3 Brévalaire\, étage de l’Espace Jeunes\, 29890 Kerlouan \nGratuit\, ouvert à toutes et tous
URL:http://famillesruralesguisseny.fr/event/porte-ouverte-du-cafe-numerique/
LOCATION:Espace Jeunes\, 3 Brévalaire\, Kerlouan\, 28890\, France
CATEGORIES:Numérique
ATTACH;FMTTYPE=image/png:http://famillesruralesguisseny.fr/wp-content/uploads/2025/09/Porte-Ouverte-cafe-numerique.png
ORGANIZER;CN="AFR Guisseny":MAILTO:accueil@famillesruralesguisseny.fr
END:VEVENT
END:VCALENDAR