BEGIN:VCALENDAR
VERSION:2.0
PRODID:-//Association Familles Rurales de Guisseny (29) - ECPv6.15.20//NONSGML v1.0//EN
CALSCALE:GREGORIAN
METHOD:PUBLISH
X-WR-CALNAME:Association Familles Rurales de Guisseny (29)
X-ORIGINAL-URL:http://famillesruralesguisseny.fr
X-WR-CALDESC:Évènements pour Association Familles Rurales de Guisseny (29)
REFRESH-INTERVAL;VALUE=DURATION:PT1H
X-Robots-Tag:noindex
X-PUBLISHED-TTL:PT1H
BEGIN:VTIMEZONE
TZID:Europe/Helsinki
BEGIN:DAYLIGHT
TZOFFSETFROM:+0200
TZOFFSETTO:+0300
TZNAME:EEST
DTSTART:20240331T010000
END:DAYLIGHT
BEGIN:STANDARD
TZOFFSETFROM:+0300
TZOFFSETTO:+0200
TZNAME:EET
DTSTART:20241027T010000
END:STANDARD
BEGIN:DAYLIGHT
TZOFFSETFROM:+0200
TZOFFSETTO:+0300
TZNAME:EEST
DTSTART:20250330T010000
END:DAYLIGHT
BEGIN:STANDARD
TZOFFSETFROM:+0300
TZOFFSETTO:+0200
TZNAME:EET
DTSTART:20251026T010000
END:STANDARD
BEGIN:DAYLIGHT
TZOFFSETFROM:+0200
TZOFFSETTO:+0300
TZNAME:EEST
DTSTART:20260329T010000
END:DAYLIGHT
BEGIN:STANDARD
TZOFFSETFROM:+0300
TZOFFSETTO:+0200
TZNAME:EET
DTSTART:20261025T010000
END:STANDARD
END:VTIMEZONE
BEGIN:VEVENT
DTSTART;TZID=Europe/Helsinki:20251018T140000
DTEND;TZID=Europe/Helsinki:20251018T160000
DTSTAMP:20260419T230300
CREATED:20251010T084138Z
LAST-MODIFIED:20251010T084138Z
UID:50360-1760796000-1760803200@famillesruralesguisseny.fr
SUMMARY:Repair café - Trégarantec
DESCRIPTION:Depuis 2019\, le centre socioculturel intercommunal propose des repair café sur le territoire pour redonner vie aux objets du quotidien. Une équipe de bénévoles passionnés vous donne rendez-vous samedi 18 octobre 2025\, de 14 h à 16 h\, à la salle polyvalente de Trégarantec. Pour cette édition Familles rurales Guissény sera présent avec ses bénévoles du café numérique et leurs imprimantes 3D ! \nVous pouvez venir avec vos petits appareils électroménager\, vélos ou autre objet transportable et des bénévoles seront présents pour vous aider à les réparer. Atelier gratuit. Cette démarche écologique permet d’éviter de jeter et de faire des économies !
URL:http://famillesruralesguisseny.fr/event/repair-cafe-tregarantec/
LOCATION:Salle Polyvalente\, Trégarantec
CATEGORIES:Numérique
ATTACH;FMTTYPE=image/jpeg:http://famillesruralesguisseny.fr/wp-content/uploads/2025/10/REPAIR-CAFE-18-octobre1.jpg
END:VEVENT
END:VCALENDAR