BEGIN:VCALENDAR
VERSION:2.0
PRODID:-//Association Familles Rurales de Guisseny (29) - ECPv6.15.20//NONSGML v1.0//EN
CALSCALE:GREGORIAN
METHOD:PUBLISH
X-ORIGINAL-URL:https://famillesruralesguisseny.fr
X-WR-CALDESC:Évènements pour Association Familles Rurales de Guisseny (29)
REFRESH-INTERVAL;VALUE=DURATION:PT1H
X-Robots-Tag:noindex
X-PUBLISHED-TTL:PT1H
BEGIN:VTIMEZONE
TZID:Europe/Helsinki
BEGIN:DAYLIGHT
TZOFFSETFROM:+0200
TZOFFSETTO:+0300
TZNAME:EEST
DTSTART:20230326T010000
END:DAYLIGHT
BEGIN:STANDARD
TZOFFSETFROM:+0300
TZOFFSETTO:+0200
TZNAME:EET
DTSTART:20231029T010000
END:STANDARD
BEGIN:DAYLIGHT
TZOFFSETFROM:+0200
TZOFFSETTO:+0300
TZNAME:EEST
DTSTART:20240331T010000
END:DAYLIGHT
BEGIN:STANDARD
TZOFFSETFROM:+0300
TZOFFSETTO:+0200
TZNAME:EET
DTSTART:20241027T010000
END:STANDARD
BEGIN:DAYLIGHT
TZOFFSETFROM:+0200
TZOFFSETTO:+0300
TZNAME:EEST
DTSTART:20250330T010000
END:DAYLIGHT
BEGIN:STANDARD
TZOFFSETFROM:+0300
TZOFFSETTO:+0200
TZNAME:EET
DTSTART:20251026T010000
END:STANDARD
END:VTIMEZONE
BEGIN:VEVENT
DTSTART;TZID=Europe/Helsinki:20240601T110000
DTEND;TZID=Europe/Helsinki:20240601T170000
DTSTAMP:20260422T223857
CREATED:20240517T095305Z
LAST-MODIFIED:20240517T095305Z
UID:49435-1717239600-1717261200@famillesruralesguisseny.fr
SUMMARY:Fête du jeu - Juin 2024
DESCRIPTION:Le samedi 1er juin\, nous organisons une fête du jeu de 11h à 17h à la maison communale de Guissény. Au programme : venez découvrir de nouveaux jeux de société et/ou tester  votre agilité et votre précision aux jeux en bois extérieurs. Des activités pour les enfants seront également proposées : maquillage\, escape game\, structure gonflable\, etc.  \nDes boissons et des crêpes sucrées seront en vente pour grignoter\, pensez à prendre du liquide. \nL’événement est gratuit et ouvert à tous et toutes. Seul.e\, en famille ou entre amie.es\, venez passez un moment convivial de détente et de partage autour du jeu ! \nNous aurons également besoin de bénévoles pour nous aider à installer et désinstaller les activités (à partir de 9h et jusqu’à 19h). Si vous pouvez nous donner un coup de main le matin\, pendant la journée (tenue du bar\, explications des règles de jeux de société\, vente de crêpes)\, ou en fin de journée\, écrivez-nous ou appelez-nous pour nous le signaler ! Le repas du midi sera pris en charge par l’association pour les bénévoles.
URL:https://famillesruralesguisseny.fr/event/fete-du-jeu-juin-2024/
LOCATION:Maison Communale\, 7 rue Chanoine Rannou\, Guisseny\, 29880\, France
CATEGORIES:Vie associative
ATTACH;FMTTYPE=image/png:https://famillesruralesguisseny.fr/wp-content/uploads/2024/05/affiche-fete-du-jeu.png
ORGANIZER;CN="AFR Guisseny":MAILTO:accueil@famillesruralesguisseny.fr
END:VEVENT
BEGIN:VEVENT
DTSTART;TZID=Europe/Helsinki:20240622T180000
DTEND;TZID=Europe/Helsinki:20240622T180000
DTSTAMP:20260422T223857
CREATED:20240620T140751Z
LAST-MODIFIED:20240620T140751Z
UID:49467-1719079200-1719079200@famillesruralesguisseny.fr
SUMMARY:Vernissage Exposition Peinture / Sculpture - 22/06/2024
DESCRIPTION:
URL:https://famillesruralesguisseny.fr/event/vernissage-exposition-peinture-sculpture-22-06-2024/
LOCATION:Ti an Oll\, Rue de Béthanie\, Guissény\, 29880\, France
CATEGORIES:Vie associative
ATTACH;FMTTYPE=image/jpeg:https://famillesruralesguisseny.fr/wp-content/uploads/2024/06/AFFICHE_EXPO_2024_page-0001.jpg
ORGANIZER;CN="AFR Guisseny":MAILTO:accueil@famillesruralesguisseny.fr
END:VEVENT
END:VCALENDAR