BEGIN:VCALENDAR
VERSION:2.0
PRODID:-//Association Familles Rurales de Guisseny (29) - ECPv6.15.20//NONSGML v1.0//EN
CALSCALE:GREGORIAN
METHOD:PUBLISH
X-WR-CALNAME:Association Familles Rurales de Guisseny (29)
X-ORIGINAL-URL:https://famillesruralesguisseny.fr
X-WR-CALDESC:Évènements pour Association Familles Rurales de Guisseny (29)
REFRESH-INTERVAL;VALUE=DURATION:PT1H
X-Robots-Tag:noindex
X-PUBLISHED-TTL:PT1H
BEGIN:VTIMEZONE
TZID:Europe/Helsinki
BEGIN:DAYLIGHT
TZOFFSETFROM:+0200
TZOFFSETTO:+0300
TZNAME:EEST
DTSTART:20240331T010000
END:DAYLIGHT
BEGIN:STANDARD
TZOFFSETFROM:+0300
TZOFFSETTO:+0200
TZNAME:EET
DTSTART:20241027T010000
END:STANDARD
BEGIN:DAYLIGHT
TZOFFSETFROM:+0200
TZOFFSETTO:+0300
TZNAME:EEST
DTSTART:20250330T010000
END:DAYLIGHT
BEGIN:STANDARD
TZOFFSETFROM:+0300
TZOFFSETTO:+0200
TZNAME:EET
DTSTART:20251026T010000
END:STANDARD
BEGIN:DAYLIGHT
TZOFFSETFROM:+0200
TZOFFSETTO:+0300
TZNAME:EEST
DTSTART:20260329T010000
END:DAYLIGHT
BEGIN:STANDARD
TZOFFSETFROM:+0300
TZOFFSETTO:+0200
TZNAME:EET
DTSTART:20261025T010000
END:STANDARD
END:VTIMEZONE
BEGIN:VEVENT
DTSTART;TZID=Europe/Helsinki:20250328T180000
DTEND;TZID=Europe/Helsinki:20250328T210000
DTSTAMP:20260422T084620
CREATED:20250318T111623Z
LAST-MODIFIED:20250318T111623Z
UID:49693-1743184800-1743195600@famillesruralesguisseny.fr
SUMMARY:Soirée jeux - gratuit et ouvert à tous.tes
DESCRIPTION:♣️Soirée jeux de société vendredi 28 mars de 18h à 21h !\n>> Venez partager un moment ludique et convivial seul\, entre amis ou en famille\ndans la yourte (ludothèque) sur le parking de la maison communale.\nEntrée gratuite et ouverte à tous !!\n Soirée jeux tous les derniers vendredi du mois
URL:https://famillesruralesguisseny.fr/event/soiree-jeux-gratuit-et-ouvert-a-tous-tes/
LOCATION:Ludothèque\, Yourte\, 7b rue du Chanoine Etienne Rannou\, Guissény\, 29880\, France
CATEGORIES:Vie associative
ATTACH;FMTTYPE=image/png:https://famillesruralesguisseny.fr/wp-content/uploads/2025/03/20250328-soiree-jeux-mars.png
ORGANIZER;CN="AFR Guisseny":MAILTO:accueil@famillesruralesguisseny.fr
END:VEVENT
END:VCALENDAR