BEGIN:VCALENDAR
VERSION:2.0
PRODID:-//Association Familles Rurales de Guisseny (29) - ECPv6.15.20//NONSGML v1.0//EN
CALSCALE:GREGORIAN
METHOD:PUBLISH
X-WR-CALNAME:Association Familles Rurales de Guisseny (29)
X-ORIGINAL-URL:https://famillesruralesguisseny.fr
X-WR-CALDESC:Évènements pour Association Familles Rurales de Guisseny (29)
REFRESH-INTERVAL;VALUE=DURATION:PT1H
X-Robots-Tag:noindex
X-PUBLISHED-TTL:PT1H
BEGIN:VTIMEZONE
TZID:Europe/Helsinki
BEGIN:DAYLIGHT
TZOFFSETFROM:+0200
TZOFFSETTO:+0300
TZNAME:EEST
DTSTART:20240331T010000
END:DAYLIGHT
BEGIN:STANDARD
TZOFFSETFROM:+0300
TZOFFSETTO:+0200
TZNAME:EET
DTSTART:20241027T010000
END:STANDARD
BEGIN:DAYLIGHT
TZOFFSETFROM:+0200
TZOFFSETTO:+0300
TZNAME:EEST
DTSTART:20250330T010000
END:DAYLIGHT
BEGIN:STANDARD
TZOFFSETFROM:+0300
TZOFFSETTO:+0200
TZNAME:EET
DTSTART:20251026T010000
END:STANDARD
BEGIN:DAYLIGHT
TZOFFSETFROM:+0200
TZOFFSETTO:+0300
TZNAME:EEST
DTSTART:20260329T010000
END:DAYLIGHT
BEGIN:STANDARD
TZOFFSETFROM:+0300
TZOFFSETTO:+0200
TZNAME:EET
DTSTART:20261025T010000
END:STANDARD
END:VTIMEZONE
BEGIN:VEVENT
DTSTART;TZID=Europe/Helsinki:20250522T180000
DTEND;TZID=Europe/Helsinki:20250522T200000
DTSTAMP:20260422T053515
CREATED:20250515T120725Z
LAST-MODIFIED:20250515T120725Z
UID:49948-1747936800-1747944000@famillesruralesguisseny.fr
SUMMARY:Café numérique - 22.05.2025
DESCRIPTION:Maison Communale   7 rue Chanoine Rannou\, Guissény\, France \n\n\nThématique au programme : « Foire à tout ». L’occasion de venir découvrir\, apprendre et manipuler les machines même si vous n’y connaissez rien ! Prix : 5€/personne.
URL:https://famillesruralesguisseny.fr/event/cafe-numerique-22-05-2025/
LOCATION:Maison Communale\, 7 rue Chanoine Rannou\, Guisseny\, 29880\, France
CATEGORIES:Vie associative
ATTACH;FMTTYPE=image/png:https://famillesruralesguisseny.fr/wp-content/uploads/2025/03/Jeudi-10-octobre-2024-DE-18H-a-20h-Theme-Creer-ton-objet-en-3D.png
ORGANIZER;CN="AFR Guisseny":MAILTO:accueil@famillesruralesguisseny.fr
END:VEVENT
BEGIN:VEVENT
DTSTART;TZID=Europe/Helsinki:20250524T103000
DTEND;TZID=Europe/Helsinki:20250524T120000
DTSTAMP:20260422T053515
CREATED:20250515T120342Z
LAST-MODIFIED:20250515T120417Z
UID:49943-1748082600-1748088000@famillesruralesguisseny.fr
SUMMARY:Nettoyage des plages en famille
DESCRIPTION:Venez nous aider à nettoyer nos plages avant la saison estivale ! Rendez-vous au centre nautique du Curnic à 10h30 le samedi 24 mai. Évènement organisé en partenariat avec la Mairie de Guissény\, un pot sera offert à 12h.
URL:https://famillesruralesguisseny.fr/event/nettoyage-des-places-en-famille/
LOCATION:Centre nautique Curnic\, 4 Rte du Port\, Guissény\, 29880\, France
CATEGORIES:Vie associative
ATTACH;FMTTYPE=image/png:https://famillesruralesguisseny.fr/wp-content/uploads/2025/05/Nettoyage-Dechets-plage-2025.05.24.png
END:VEVENT
END:VCALENDAR