BEGIN:VCALENDAR
VERSION:2.0
PRODID:-//Association Familles Rurales de Guisseny (29) - ECPv6.15.20//NONSGML v1.0//EN
CALSCALE:GREGORIAN
METHOD:PUBLISH
X-WR-CALNAME:Association Familles Rurales de Guisseny (29)
X-ORIGINAL-URL:https://famillesruralesguisseny.fr
X-WR-CALDESC:Évènements pour Association Familles Rurales de Guisseny (29)
REFRESH-INTERVAL;VALUE=DURATION:PT1H
X-Robots-Tag:noindex
X-PUBLISHED-TTL:PT1H
BEGIN:VTIMEZONE
TZID:Europe/Helsinki
BEGIN:DAYLIGHT
TZOFFSETFROM:+0200
TZOFFSETTO:+0300
TZNAME:EEST
DTSTART:20240331T010000
END:DAYLIGHT
BEGIN:STANDARD
TZOFFSETFROM:+0300
TZOFFSETTO:+0200
TZNAME:EET
DTSTART:20241027T010000
END:STANDARD
BEGIN:DAYLIGHT
TZOFFSETFROM:+0200
TZOFFSETTO:+0300
TZNAME:EEST
DTSTART:20250330T010000
END:DAYLIGHT
BEGIN:STANDARD
TZOFFSETFROM:+0300
TZOFFSETTO:+0200
TZNAME:EET
DTSTART:20251026T010000
END:STANDARD
BEGIN:DAYLIGHT
TZOFFSETFROM:+0200
TZOFFSETTO:+0300
TZNAME:EEST
DTSTART:20260329T010000
END:DAYLIGHT
BEGIN:STANDARD
TZOFFSETFROM:+0300
TZOFFSETTO:+0200
TZNAME:EET
DTSTART:20261025T010000
END:STANDARD
END:VTIMEZONE
BEGIN:VEVENT
DTSTART;VALUE=DATE:20250621
DTEND;VALUE=DATE:20250628
DTSTAMP:20260422T054000
CREATED:20250526T070728Z
LAST-MODIFIED:20250526T070728Z
UID:50019-1750464000-1751068799@famillesruralesguisseny.fr
SUMMARY:Exposition peinture/sculpture AFR Guissény
DESCRIPTION:L’exposition de peinture et sculpture annuelle de Familles Rurales de Guissény sera visible du samedi 21 au vendredi 27 juin de 14h à 18h (jusqu’à 16h le vendredi 27) à Ti an Oll\, 7 rue de Béthanie\, 29880 Guissény. \nLes réalisations des élèves des cours de peinture et sculpture encadrés par Jean-Marc Jezequel et Christine Callaux y seront exposées. Les permanences seront tenues par les élèves qui vous guideront dans cette galerie éphémère. \nLe vernissage aura lieu à 18h le samedi 21 juin. \nEn espérant vous y voir nombreux et nombreuses
URL:https://famillesruralesguisseny.fr/event/exposition-peinture-sculpture-afr-guisseny/
LOCATION:Ti an Oll\, Rue de Béthanie\, Guissény\, 29880\, France
CATEGORIES:Vie associative
ATTACH;FMTTYPE=image/png:https://famillesruralesguisseny.fr/wp-content/uploads/2025/05/Expo-20251.png
ORGANIZER;CN="AFR Guisseny":MAILTO:accueil@famillesruralesguisseny.fr
END:VEVENT
END:VCALENDAR